BEGIN:VCALENDAR
VERSION:2.0
PRODID:-//Obec Malý Lapáš//NONSGML kigkonsult.se iCalcreator 2.41.92//
CALSCALE:GREGORIAN
METHOD:PUBLISH
UID:61346334-3261-4231-b433-646537373839
X-WR-CALNAME:iCagenda
X-WR-CALDESC:Event Management Extension for Joomla!
X-WR-RELCALID:3E26604A-50F4-4449-8B3E-E4F4932D05B5
X-WR-TIMEZONE:Europe/Bratislava
BEGIN:VTIMEZONE
TZID:Europe/Bratislava
TZUNTIL:20280326T010000Z
BEGIN:STANDARD
TZNAME:CET
DTSTART:20251026T030000
TZOFFSETFROM:+0200
TZOFFSETTO:+0100
RDATE:20261025T030000
RDATE:20271031T030000
END:STANDARD
BEGIN:DAYLIGHT
TZNAME:CEST
DTSTART:20260329T020000
TZOFFSETFROM:+0100
TZOFFSETTO:+0200
RDATE:20270328T020000
END:DAYLIGHT
END:VTIMEZONE
BEGIN:VEVENT
UID:62323632-6133-4662-b064-636339363732
DTSTAMP:20260425T155050Z
CATEGORIES:Malý Lapáš
CLASS:PUBLIC
DESCRIPTION:
DTSTART:20260601T094500Z
DTEND:20260601T094500Z
GEO:00;0
LOCATION:https://www.malylapas.sk/sluzby/harmonogram-odvozu-odpadu-2025
ORGANIZER:
SEQUENCE:1
SUMMARY:Zber bioodpadu - hnedá nádoba
TRANSP:OPAQUE
URL:https://www.malylapas.sk/o-obci/kalendar-udalosti/129-zber-bioodpadu/20
 26-06-01-11-45
END:VEVENT
END:VCALENDAR
